BEGIN:VCALENDAR
VERSION:2.0
PRODID:-//Lockwood Folly Country Club - ECPv6.15.20//NONSGML v1.0//EN
CALSCALE:GREGORIAN
METHOD:PUBLISH
X-ORIGINAL-URL:http://8pa.d50.mywebsitetransfer.com
X-WR-CALDESC:Events for Lockwood Folly Country Club
REFRESH-INTERVAL;VALUE=DURATION:PT1H
X-Robots-Tag:noindex
X-PUBLISHED-TTL:PT1H
BEGIN:VTIMEZONE
TZID:America/New_York
BEGIN:DAYLIGHT
TZOFFSETFROM:-0500
TZOFFSETTO:-0400
TZNAME:EDT
DTSTART:20240310T070000
END:DAYLIGHT
BEGIN:STANDARD
TZOFFSETFROM:-0400
TZOFFSETTO:-0500
TZNAME:EST
DTSTART:20241103T060000
END:STANDARD
BEGIN:DAYLIGHT
TZOFFSETFROM:-0500
TZOFFSETTO:-0400
TZNAME:EDT
DTSTART:20250309T070000
END:DAYLIGHT
BEGIN:STANDARD
TZOFFSETFROM:-0400
TZOFFSETTO:-0500
TZNAME:EST
DTSTART:20251102T060000
END:STANDARD
BEGIN:DAYLIGHT
TZOFFSETFROM:-0500
TZOFFSETTO:-0400
TZNAME:EDT
DTSTART:20260308T070000
END:DAYLIGHT
BEGIN:STANDARD
TZOFFSETFROM:-0400
TZOFFSETTO:-0500
TZNAME:EST
DTSTART:20261101T060000
END:STANDARD
END:VTIMEZONE
BEGIN:VEVENT
DTSTART;TZID=America/New_York:20250609T000000
DTEND;TZID=America/New_York:20250609T000000
DTSTAMP:20260420T004754
CREATED:20250312T211049Z
LAST-MODIFIED:20250312T211049Z
UID:1582-1749427200-1749427200@8pa.d50.mywebsitetransfer.com
SUMMARY:Inter coastal Interclub at Carolina National
DESCRIPTION:
URL:http://8pa.d50.mywebsitetransfer.com/event/inter-coastal-interclub-at-carolina-national/
CATEGORIES:MGA
END:VEVENT
BEGIN:VEVENT
DTSTART;TZID=America/New_York:20250613T000000
DTEND;TZID=America/New_York:20250613T000000
DTSTAMP:20260420T004754
CREATED:20250312T211318Z
LAST-MODIFIED:20250312T211318Z
UID:1586-1749772800-1749772800@8pa.d50.mywebsitetransfer.com
SUMMARY:Cape Fear Resource Outing
DESCRIPTION:
URL:http://8pa.d50.mywebsitetransfer.com/event/cape-fear-resource-outing/
LOCATION:Lockwood Folly\, 19 Clubhouse Drive\, Supply\, NC\, 28462\, United States
END:VEVENT
BEGIN:VEVENT
DTSTART;TZID=America/New_York:20250621T083000
DTEND;TZID=America/New_York:20250621T083000
DTSTAMP:20260420T004754
CREATED:20250312T211619Z
LAST-MODIFIED:20250312T211800Z
UID:1588-1750494600-1750494600@8pa.d50.mywebsitetransfer.com
SUMMARY:Brunswick County GOP Outing
DESCRIPTION:
URL:http://8pa.d50.mywebsitetransfer.com/event/brunswick-county-goo-outing/
LOCATION:Lockwood Folly\, 19 Clubhouse Drive\, Supply\, NC\, 28462\, United States
END:VEVENT
BEGIN:VEVENT
DTSTART;TZID=America/New_York:20250623T000000
DTEND;TZID=America/New_York:20250623T000000
DTSTAMP:20260420T004754
CREATED:20250312T211939Z
LAST-MODIFIED:20250312T211939Z
UID:1589-1750636800-1750636800@8pa.d50.mywebsitetransfer.com
SUMMARY:Intercoastal Interclub at Meadowlands
DESCRIPTION:
URL:http://8pa.d50.mywebsitetransfer.com/event/intercoastal-interclub-at-meadowlands/
END:VEVENT
BEGIN:VEVENT
DTSTART;TZID=America/New_York:20250630T080000
DTEND;TZID=America/New_York:20250630T170000
DTSTAMP:20260420T004754
CREATED:20250312T212123Z
LAST-MODIFIED:20250312T212123Z
UID:1590-1751270400-1751302800@8pa.d50.mywebsitetransfer.com
SUMMARY:Intercoastal Interclub at Sea Trail
DESCRIPTION:
URL:http://8pa.d50.mywebsitetransfer.com/event/intercoastal-interclub-at-sea-trail/
END:VEVENT
END:VCALENDAR