BEGIN:VCALENDAR
VERSION:2.0
PRODID:-//Lockwood Folly Country Club - ECPv6.15.20//NONSGML v1.0//EN
CALSCALE:GREGORIAN
METHOD:PUBLISH
X-ORIGINAL-URL:http://8pa.d50.mywebsitetransfer.com
X-WR-CALDESC:Events for Lockwood Folly Country Club
REFRESH-INTERVAL;VALUE=DURATION:PT1H
X-Robots-Tag:noindex
X-PUBLISHED-TTL:PT1H
BEGIN:VTIMEZONE
TZID:America/New_York
BEGIN:DAYLIGHT
TZOFFSETFROM:-0500
TZOFFSETTO:-0400
TZNAME:EDT
DTSTART:20240310T070000
END:DAYLIGHT
BEGIN:STANDARD
TZOFFSETFROM:-0400
TZOFFSETTO:-0500
TZNAME:EST
DTSTART:20241103T060000
END:STANDARD
BEGIN:DAYLIGHT
TZOFFSETFROM:-0500
TZOFFSETTO:-0400
TZNAME:EDT
DTSTART:20250309T070000
END:DAYLIGHT
BEGIN:STANDARD
TZOFFSETFROM:-0400
TZOFFSETTO:-0500
TZNAME:EST
DTSTART:20251102T060000
END:STANDARD
BEGIN:DAYLIGHT
TZOFFSETFROM:-0500
TZOFFSETTO:-0400
TZNAME:EDT
DTSTART:20260308T070000
END:DAYLIGHT
BEGIN:STANDARD
TZOFFSETFROM:-0400
TZOFFSETTO:-0500
TZNAME:EST
DTSTART:20261101T060000
END:STANDARD
END:VTIMEZONE
BEGIN:VEVENT
DTSTART;TZID=America/New_York:20250401T080000
DTEND;TZID=America/New_York:20250401T123000
DTSTAMP:20260420T035045
CREATED:20250311T215050Z
LAST-MODIFIED:20250311T215050Z
UID:1552-1743494400-1743510600@8pa.d50.mywebsitetransfer.com
SUMMARY:LGA Scramble
DESCRIPTION:
URL:http://8pa.d50.mywebsitetransfer.com/event/lga-scramble-6/
LOCATION:Lockwood Folly\, 19 Clubhouse Drive\, Supply\, NC\, 28462\, United States
CATEGORIES:LGA
END:VEVENT
BEGIN:VEVENT
DTSTART;TZID=America/New_York:20250401T160000
DTEND;TZID=America/New_York:20250401T183000
DTSTAMP:20260420T035045
CREATED:20250311T215219Z
LAST-MODIFIED:20250311T215219Z
UID:1553-1743523200-1743532200@8pa.d50.mywebsitetransfer.com
SUMMARY:Cedar Grove Middle School Match
DESCRIPTION:
URL:http://8pa.d50.mywebsitetransfer.com/event/cedar-grove-middle-school-match/
LOCATION:Lockwood Folly\, 19 Clubhouse Drive\, Supply\, NC\, 28462\, United States
END:VEVENT
BEGIN:VEVENT
DTSTART;TZID=America/New_York:20250405T130000
DTEND;TZID=America/New_York:20250405T163000
DTSTAMP:20260420T035045
CREATED:20250311T221408Z
LAST-MODIFIED:20250311T221408Z
UID:1554-1743858000-1743870600@8pa.d50.mywebsitetransfer.com
SUMMARY:Brandon’s Battle Outing
DESCRIPTION:
URL:http://8pa.d50.mywebsitetransfer.com/event/brandons-battle-outing-2/
LOCATION:Lockwood Folly\, 19 Clubhouse Drive\, Supply\, NC\, 28462\, United States
END:VEVENT
BEGIN:VEVENT
DTSTART;TZID=America/New_York:20250408T080000
DTEND;TZID=America/New_York:20250408T170000
DTSTAMP:20260420T035045
CREATED:20250311T221534Z
LAST-MODIFIED:20250311T221534Z
UID:1555-1744099200-1744131600@8pa.d50.mywebsitetransfer.com
SUMMARY:MGA Match Play
DESCRIPTION:
URL:http://8pa.d50.mywebsitetransfer.com/event/mga-match-play/
LOCATION:Lockwood Folly\, 19 Clubhouse Drive\, Supply\, NC\, 28462\, United States
CATEGORIES:MGA
END:VEVENT
BEGIN:VEVENT
DTSTART;TZID=America/New_York:20250409T100000
DTEND;TZID=America/New_York:20250409T140000
DTSTAMP:20260420T035045
CREATED:20250311T221706Z
LAST-MODIFIED:20250311T221706Z
UID:1556-1744192800-1744207200@8pa.d50.mywebsitetransfer.com
SUMMARY:Srixon Demo Day
DESCRIPTION:
URL:http://8pa.d50.mywebsitetransfer.com/event/srixon-demo-day/
LOCATION:Lockwood Folly\, 19 Clubhouse Drive\, Supply\, NC\, 28462\, United States
END:VEVENT
BEGIN:VEVENT
DTSTART;TZID=America/New_York:20250410T100000
DTEND;TZID=America/New_York:20250410T120000
DTSTAMP:20260420T035045
CREATED:20250311T221848Z
LAST-MODIFIED:20250311T221848Z
UID:1557-1744279200-1744286400@8pa.d50.mywebsitetransfer.com
SUMMARY:Bridgestone Ball Fitting
DESCRIPTION:
URL:http://8pa.d50.mywebsitetransfer.com/event/bridgestone-ball-fitting/
LOCATION:Lockwood Folly\, 19 Clubhouse Drive\, Supply\, NC\, 28462\, United States
END:VEVENT
BEGIN:VEVENT
DTSTART;TZID=America/New_York:20250411T100000
DTEND;TZID=America/New_York:20250411T143000
DTSTAMP:20260420T035045
CREATED:20250311T222435Z
LAST-MODIFIED:20250311T222435Z
UID:1558-1744365600-1744381800@8pa.d50.mywebsitetransfer.com
SUMMARY:Intercoastal Interclub w/Meadowlands
DESCRIPTION:
URL:http://8pa.d50.mywebsitetransfer.com/event/intercoastal-interclub-w-meadowlands/
LOCATION:Lockwood Folly\, 19 Clubhouse Drive\, Supply\, NC\, 28462\, United States
CATEGORIES:MGA
END:VEVENT
BEGIN:VEVENT
DTSTART;TZID=America/New_York:20250414T090000
DTEND;TZID=America/New_York:20250414T133000
DTSTAMP:20260420T035045
CREATED:20250311T233503Z
LAST-MODIFIED:20250311T233503Z
UID:1560-1744621200-1744637400@8pa.d50.mywebsitetransfer.com
SUMMARY:GTM Scramble Series
DESCRIPTION:
URL:http://8pa.d50.mywebsitetransfer.com/event/gtm-scramble-series/
LOCATION:Lockwood Folly\, 19 Clubhouse Drive\, Supply\, NC\, 28462\, United States
END:VEVENT
BEGIN:VEVENT
DTSTART;TZID=America/New_York:20250421T140000
DTEND;TZID=America/New_York:20250421T180000
DTSTAMP:20260420T035045
CREATED:20250311T233920Z
LAST-MODIFIED:20250311T233920Z
UID:1562-1745244000-1745258400@8pa.d50.mywebsitetransfer.com
SUMMARY:Intercoastal Interclub w/Carolina National
DESCRIPTION:
URL:http://8pa.d50.mywebsitetransfer.com/event/intercoastal-interclub-w-carolina-national/
LOCATION:Lockwood Folly\, 19 Clubhouse Drive\, Supply\, NC\, 28462\, United States
END:VEVENT
BEGIN:VEVENT
DTSTART;TZID=America/New_York:20250422T140000
DTEND;TZID=America/New_York:20250422T163000
DTSTAMP:20260420T035045
CREATED:20250311T234304Z
LAST-MODIFIED:20250311T234304Z
UID:1564-1745330400-1745339400@8pa.d50.mywebsitetransfer.com
SUMMARY:LGA Spring Fling (9 Holes)
DESCRIPTION:
URL:http://8pa.d50.mywebsitetransfer.com/event/lga-spring-fling-9-holes/
LOCATION:Lockwood Folly\, 19 Clubhouse Drive\, Supply\, NC\, 28462\, United States
CATEGORIES:LGA
END:VEVENT
BEGIN:VEVENT
DTSTART;TZID=America/New_York:20250424T090000
DTEND;TZID=America/New_York:20250424T133000
DTSTAMP:20260420T035045
CREATED:20250311T234446Z
LAST-MODIFIED:20250311T234446Z
UID:1565-1745485200-1745501400@8pa.d50.mywebsitetransfer.com
SUMMARY:Yaffe Event
DESCRIPTION:
URL:http://8pa.d50.mywebsitetransfer.com/event/yaffe-event/
LOCATION:Lockwood Folly\, 19 Clubhouse Drive\, Supply\, NC\, 28462\, United States
END:VEVENT
BEGIN:VEVENT
DTSTART;TZID=America/New_York:20250428T083000
DTEND;TZID=America/New_York:20250428T140000
DTSTAMP:20260420T035045
CREATED:20250311T234603Z
LAST-MODIFIED:20250311T234603Z
UID:1566-1745829000-1745848800@8pa.d50.mywebsitetransfer.com
SUMMARY:Helmboldt Group
DESCRIPTION:
URL:http://8pa.d50.mywebsitetransfer.com/event/helmboldt-group/
LOCATION:Lockwood Folly\, 19 Clubhouse Drive\, Supply\, NC\, 28462\, United States
END:VEVENT
END:VCALENDAR