BEGIN:VCALENDAR
VERSION:2.0
PRODID:-//Lockwood Folly Country Club - ECPv6.15.20//NONSGML v1.0//EN
CALSCALE:GREGORIAN
METHOD:PUBLISH
X-ORIGINAL-URL:http://8pa.d50.mywebsitetransfer.com
X-WR-CALDESC:Events for Lockwood Folly Country Club
REFRESH-INTERVAL;VALUE=DURATION:PT1H
X-Robots-Tag:noindex
X-PUBLISHED-TTL:PT1H
BEGIN:VTIMEZONE
TZID:America/New_York
BEGIN:DAYLIGHT
TZOFFSETFROM:-0500
TZOFFSETTO:-0400
TZNAME:EDT
DTSTART:20240310T070000
END:DAYLIGHT
BEGIN:STANDARD
TZOFFSETFROM:-0400
TZOFFSETTO:-0500
TZNAME:EST
DTSTART:20241103T060000
END:STANDARD
BEGIN:DAYLIGHT
TZOFFSETFROM:-0500
TZOFFSETTO:-0400
TZNAME:EDT
DTSTART:20250309T070000
END:DAYLIGHT
BEGIN:STANDARD
TZOFFSETFROM:-0400
TZOFFSETTO:-0500
TZNAME:EST
DTSTART:20251102T060000
END:STANDARD
BEGIN:DAYLIGHT
TZOFFSETFROM:-0500
TZOFFSETTO:-0400
TZNAME:EDT
DTSTART:20260308T070000
END:DAYLIGHT
BEGIN:STANDARD
TZOFFSETFROM:-0400
TZOFFSETTO:-0500
TZNAME:EST
DTSTART:20261101T060000
END:STANDARD
END:VTIMEZONE
BEGIN:VEVENT
DTSTART;TZID=America/New_York:20250311T090000
DTEND;TZID=America/New_York:20250311T133000
DTSTAMP:20260420T083417
CREATED:20250311T233630Z
LAST-MODIFIED:20250311T233630Z
UID:1561-1741683600-1741699800@8pa.d50.mywebsitetransfer.com
SUMMARY:Sheriff’s Outing
DESCRIPTION:
URL:http://8pa.d50.mywebsitetransfer.com/event/sheriffs-outing/
LOCATION:Lockwood Folly\, 19 Clubhouse Drive\, Supply\, NC\, 28462\, United States
END:VEVENT
BEGIN:VEVENT
DTSTART;TZID=America/New_York:20250312T090000
DTEND;TZID=America/New_York:20250312T133000
DTSTAMP:20260420T083417
CREATED:20250311T212635Z
LAST-MODIFIED:20250311T212635Z
UID:1543-1741770000-1741786200@8pa.d50.mywebsitetransfer.com
SUMMARY:Golfweek Senior Tour
DESCRIPTION:
URL:http://8pa.d50.mywebsitetransfer.com/event/golfweek-senior-tour/
LOCATION:Lockwood Folly\, 19 Clubhouse Drive\, Supply\, NC\, 28462\, United States
END:VEVENT
BEGIN:VEVENT
DTSTART;TZID=America/New_York:20250315T090000
DTEND;TZID=America/New_York:20250315T133000
DTSTAMP:20260420T083417
CREATED:20250311T212827Z
LAST-MODIFIED:20250311T212827Z
UID:1544-1742029200-1742045400@8pa.d50.mywebsitetransfer.com
SUMMARY:VWES Outing
DESCRIPTION:
URL:http://8pa.d50.mywebsitetransfer.com/event/vwes-outing/
LOCATION:Lockwood Folly\, 19 Clubhouse Drive\, Supply\, NC\, 28462\, United States
END:VEVENT
BEGIN:VEVENT
DTSTART;TZID=America/New_York:20250318T100000
DTEND;TZID=America/New_York:20250318T143000
DTSTAMP:20260420T083417
CREATED:20250311T213028Z
LAST-MODIFIED:20250311T213028Z
UID:1545-1742292000-1742308200@8pa.d50.mywebsitetransfer.com
SUMMARY:MGA Pot of Gold Mixer
DESCRIPTION:
URL:http://8pa.d50.mywebsitetransfer.com/event/mga-pot-of-gold-mixer-2/
CATEGORIES:MGA
END:VEVENT
BEGIN:VEVENT
DTSTART;TZID=America/New_York:20250323T090000
DTEND;TZID=America/New_York:20250323T133000
DTSTAMP:20260420T083417
CREATED:20250311T213331Z
LAST-MODIFIED:20250311T213331Z
UID:1546-1742720400-1742736600@8pa.d50.mywebsitetransfer.com
SUMMARY:Port City GG
DESCRIPTION:
URL:http://8pa.d50.mywebsitetransfer.com/event/port-city-gg/
END:VEVENT
BEGIN:VEVENT
DTSTART;TZID=America/New_York:20250324T113000
DTEND;TZID=America/New_York:20250324T160000
DTSTAMP:20260420T083417
CREATED:20250311T213457Z
LAST-MODIFIED:20250311T213457Z
UID:1547-1742815800-1742832000@8pa.d50.mywebsitetransfer.com
SUMMARY:West Brunswick High School Match
DESCRIPTION:
URL:http://8pa.d50.mywebsitetransfer.com/event/west-brunswick-high-school-match/
END:VEVENT
BEGIN:VEVENT
DTSTART;TZID=America/New_York:20250326T083000
DTEND;TZID=America/New_York:20250326T140000
DTSTAMP:20260420T083417
CREATED:20250311T213748Z
LAST-MODIFIED:20250311T213748Z
UID:1549-1742977800-1742997600@8pa.d50.mywebsitetransfer.com
SUMMARY:Intercoastal Interclub Match w/St. James
DESCRIPTION:
URL:http://8pa.d50.mywebsitetransfer.com/event/intercoastal-interclub-match-w-st-james/
LOCATION:Lockwood Folly\, 19 Clubhouse Drive\, Supply\, NC\, 28462\, United States
END:VEVENT
BEGIN:VEVENT
DTSTART;TZID=America/New_York:20250329T083000
DTEND;TZID=America/New_York:20250329T130000
DTSTAMP:20260420T083417
CREATED:20250311T213947Z
LAST-MODIFIED:20250311T213947Z
UID:1551-1743237000-1743253200@8pa.d50.mywebsitetransfer.com
SUMMARY:Golfweek Tour
DESCRIPTION:
URL:http://8pa.d50.mywebsitetransfer.com/event/golfweek-tour/
LOCATION:Lockwood Folly\, 19 Clubhouse Drive\, Supply\, NC\, 28462\, United States
END:VEVENT
END:VCALENDAR