BEGIN:VCALENDAR
VERSION:2.0
PRODID:-//Lockwood Folly Country Club - ECPv6.15.20//NONSGML v1.0//EN
CALSCALE:GREGORIAN
METHOD:PUBLISH
X-WR-CALNAME:Lockwood Folly Country Club
X-ORIGINAL-URL:http://8pa.d50.mywebsitetransfer.com
X-WR-CALDESC:Events for Lockwood Folly Country Club
REFRESH-INTERVAL;VALUE=DURATION:PT1H
X-Robots-Tag:noindex
X-PUBLISHED-TTL:PT1H
BEGIN:VTIMEZONE
TZID:America/New_York
BEGIN:DAYLIGHT
TZOFFSETFROM:-0500
TZOFFSETTO:-0400
TZNAME:EDT
DTSTART:20200308T070000
END:DAYLIGHT
BEGIN:STANDARD
TZOFFSETFROM:-0400
TZOFFSETTO:-0500
TZNAME:EST
DTSTART:20201101T060000
END:STANDARD
BEGIN:DAYLIGHT
TZOFFSETFROM:-0500
TZOFFSETTO:-0400
TZNAME:EDT
DTSTART:20210314T070000
END:DAYLIGHT
BEGIN:STANDARD
TZOFFSETFROM:-0400
TZOFFSETTO:-0500
TZNAME:EST
DTSTART:20211107T060000
END:STANDARD
BEGIN:DAYLIGHT
TZOFFSETFROM:-0500
TZOFFSETTO:-0400
TZNAME:EDT
DTSTART:20220313T070000
END:DAYLIGHT
BEGIN:STANDARD
TZOFFSETFROM:-0400
TZOFFSETTO:-0500
TZNAME:EST
DTSTART:20221106T060000
END:STANDARD
END:VTIMEZONE
BEGIN:VEVENT
DTSTART;VALUE=DATE:20210826
DTEND;VALUE=DATE:20210827
DTSTAMP:20260419T124431
CREATED:20210813T155622Z
LAST-MODIFIED:20210813T155622Z
UID:810-1629936000-1630022399@8pa.d50.mywebsitetransfer.com
SUMMARY:LGA Fun Day 826
DESCRIPTION:LGA Fun Day
URL:http://8pa.d50.mywebsitetransfer.com/event/lga-fun-day-826/
LOCATION:Lockwood Folly\, 19 Clubhouse Drive\, Supply\, NC\, 28462\, United States
END:VEVENT
BEGIN:VEVENT
DTSTART;TZID=America/New_York:20210825T150000
DTEND;TZID=America/New_York:20210825T170000
DTSTAMP:20260419T124431
CREATED:20210714T165837Z
LAST-MODIFIED:20210714T165837Z
UID:795-1629903600-1629910800@8pa.d50.mywebsitetransfer.com
SUMMARY:LFCCI Quarterly Meeting 2021
DESCRIPTION:
URL:http://8pa.d50.mywebsitetransfer.com/event/lfcci-quarterly-meeting-2021/
LOCATION:River Room
END:VEVENT
BEGIN:VEVENT
DTSTART;TZID=America/New_York:20210823T090000
DTEND;TZID=America/New_York:20210823T090000
DTSTAMP:20260419T124431
CREATED:20210715T130836Z
LAST-MODIFIED:20210715T131123Z
UID:797-1629709200-1629709200@8pa.d50.mywebsitetransfer.com
SUMMARY:Ladybird Tournament
DESCRIPTION:Shotgun Start 9:00 AM
URL:http://8pa.d50.mywebsitetransfer.com/event/ladybird-tournament/
LOCATION:Lockwood Folly\, 19 Clubhouse Drive\, Supply\, NC\, 28462\, United States
END:VEVENT
BEGIN:VEVENT
DTSTART;TZID=America/New_York:20210717T120000
DTEND;TZID=America/New_York:20210717T180000
DTSTAMP:20260419T124431
CREATED:20210713T183201Z
LAST-MODIFIED:20210713T183332Z
UID:794-1626523200-1626544800@8pa.d50.mywebsitetransfer.com
SUMMARY:Patriots Weekend
DESCRIPTION:Folds of Honor & Children of Fallen Heroes Golf Tournament \n 
URL:http://8pa.d50.mywebsitetransfer.com/event/patriots-weekend-071721/
LOCATION:Lockwood Folly\, 19 Clubhouse Drive\, Supply\, NC\, 28462\, United States
END:VEVENT
BEGIN:VEVENT
DTSTART;TZID=America/New_York:20210716T130000
DTEND;TZID=America/New_York:20210716T170000
DTSTAMP:20260419T124431
CREATED:20210713T183018Z
LAST-MODIFIED:20210713T183352Z
UID:791-1626440400-1626454800@8pa.d50.mywebsitetransfer.com
SUMMARY:Eddie K Classic
DESCRIPTION:Eddie K Classic – 4 Man Scramble
URL:http://8pa.d50.mywebsitetransfer.com/event/eddie-k-classic-71621/
LOCATION:Lockwood Folly\, 19 Clubhouse Drive\, Supply\, NC\, 28462\, United States
END:VEVENT
END:VCALENDAR