BEGIN:VCALENDAR
VERSION:2.0
PRODID:-//Lockwood Folly Country Club - ECPv6.15.20//NONSGML v1.0//EN
CALSCALE:GREGORIAN
METHOD:PUBLISH
X-ORIGINAL-URL:http://8pa.d50.mywebsitetransfer.com
X-WR-CALDESC:Events for Lockwood Folly Country Club
REFRESH-INTERVAL;VALUE=DURATION:PT1H
X-Robots-Tag:noindex
X-PUBLISHED-TTL:PT1H
BEGIN:VTIMEZONE
TZID:America/New_York
BEGIN:DAYLIGHT
TZOFFSETFROM:-0500
TZOFFSETTO:-0400
TZNAME:EDT
DTSTART:20200308T070000
END:DAYLIGHT
BEGIN:STANDARD
TZOFFSETFROM:-0400
TZOFFSETTO:-0500
TZNAME:EST
DTSTART:20201101T060000
END:STANDARD
BEGIN:DAYLIGHT
TZOFFSETFROM:-0500
TZOFFSETTO:-0400
TZNAME:EDT
DTSTART:20210314T070000
END:DAYLIGHT
BEGIN:STANDARD
TZOFFSETFROM:-0400
TZOFFSETTO:-0500
TZNAME:EST
DTSTART:20211107T060000
END:STANDARD
BEGIN:DAYLIGHT
TZOFFSETFROM:-0500
TZOFFSETTO:-0400
TZNAME:EDT
DTSTART:20220313T070000
END:DAYLIGHT
BEGIN:STANDARD
TZOFFSETFROM:-0400
TZOFFSETTO:-0500
TZNAME:EST
DTSTART:20221106T060000
END:STANDARD
END:VTIMEZONE
BEGIN:VEVENT
DTSTART;VALUE=DATE:20210915
DTEND;VALUE=DATE:20210916
DTSTAMP:20260426T003528
CREATED:20210817T160509Z
LAST-MODIFIED:20210819T184114Z
UID:816-1631664000-1631750399@8pa.d50.mywebsitetransfer.com
SUMMARY:MGA Rider
DESCRIPTION:MGA Rider Cup
URL:http://8pa.d50.mywebsitetransfer.com/event/mga-rider-2/
LOCATION:Lockwood Folly\, 19 Clubhouse Drive\, Supply\, NC\, 28462\, United States
CATEGORIES:LFCC
END:VEVENT
END:VCALENDAR